View In:
ArcGIS JavaScript
ArcGIS Online Map Viewer
ArcGIS Earth
ArcGIS Pro
Service Description: The Arctic Imagery map provides 15m TerraColor imagery for the polar region. It is designed to be used as a basemap for overlaying other data for the arctic region. The Arctic Imagery map includes imagery from 90 to 50 degrees north latitude, though the projection will support display of data to lower latitudes.
Map Name: Layers
Legend
All Layers and Tables
Layers:
Description: The Arctic Imagery map provides 15m TerraColor imagery for the polar region. It is designed to be used as a basemap for overlaying other data for the arctic region. The Arctic Imagery map includes imagery from 90 to 50 degrees north latitude, though the projection will support display of data to lower latitudes.
Copyright Text: Source: Earthstar Geographics
Spatial Reference:
5936
(5936)
LatestVCSWkid(0)
Single Fused Map Cache: true
Tile Info:
- Height: 256
- Width: 256
- DPI: 96
-
Levels of Detail: 24
-
Level ID: 2
[ Start Tile, End Tile ]
- Resolution: 59702.7033384999
- Scale: 2.25647561321927E8
-
Level ID: 3
[ Start Tile, End Tile ]
- Resolution: 29851.3516692501
- Scale: 1.12823780660964E8
-
Level ID: 5
[ Start Tile, End Tile ]
- Resolution: 7462.83791731252
- Scale: 2.8205945165241E7
-
Level ID: 6
[ Start Tile, End Tile ]
- Resolution: 3731.41895865639
- Scale: 1.4102972582621E7
- Format: JPEG
- Compression Quality: 75.0
- Origin: X: -2.8567784109255E7
Y: 3.2567784109255E7
- Spatial Reference: 5936
(5936)
LatestVCSWkid(0)
Storage Info:
- Storage Format: esriMapCacheStorageModeCompact
- Packet Size: 128
Initial Extent:
XMin: -3.4228874591450684E7
YMin: -3.1624562520180166E7
XMax: 3.822887459145089E7
YMax: 3.562456252018057E7
Spatial Reference: 5936
(5936)
LatestVCSWkid(0)
Full Extent:
XMin: -2.8567784109254878E7
YMin: -2.8567784109254766E7
XMax: 3.2567784109255034E7
YMax: 3.256778410925507E7
Spatial Reference: 5936
(5936)
LatestVCSWkid(0)
Units: esriMeters
Supported Image Format Types: PNG32,PNG24,PNG,JPG,DIB,TIFF,EMF,PS,PDF,GIF,SVG,SVGZ,BMP
Document Info:
Title: Arctic Imagery
Author:
Comments: The Arctic Imagery map provides 15m TerraColor imagery for the polar region. It is designed to be used as a basemap for overlaying other data for the arctic region. The Arctic Imagery map includes imagery from 90 to 50 degrees north latitude, though the projection will support display of data to lower latitudes.
Subject: The Arctic Imagery map provides 15m TerraColor imagery for the polar region.
Category:
Keywords: 2025,Arctic_Imagery,Data Appliance,Data Appliance 2025,general availability,basemap,esri_basemp,Polar,imagery
AntialiasingMode: Fast
TextAntialiasingMode: Force
Supports Dynamic Layers: false
Resampling: false
MaxRecordCount: 2000
MaxSelectionCount: 2000
MaxImageHeight: 4096
MaxImageWidth: 4096
Supported Query Formats: JSON, geoJSON, PBF
Supports Query Data Elements: true
Min Scale: 0
Max Scale: 0
Supports Datum Transformation: true
Child Resources:
Info
Supported Operations:
Export Map
QueryLegends
Return Updates