{
 "currentVersion": 11.4,
 "cimVersion": "3.4.0",
 "serviceDescription": "The Arctic Imagery map provides 15m TerraColor imagery for the polar region. It is designed to be used as a basemap for overlaying other data for the arctic region. The Arctic Imagery map includes imagery from 90 to 50 degrees north latitude, though the projection will support display of data to lower latitudes.",
 "mapName": "Layers",
 "description": "The Arctic Imagery map provides 15m TerraColor imagery for the polar region. It is designed to be used as a basemap for overlaying other data for the arctic region. The Arctic Imagery map includes imagery from 90 to 50 degrees north latitude, though the projection will support display of data to lower latitudes.",
 "copyrightText": "Source: Earthstar Geographics",
 "supportsDynamicLayers": false,
 "layers": [
  {
   "id": 0,
   "name": "Arctic Imagery",
   "parentLayerId": -1,
   "defaultVisibility": true,
   "subLayerIds": null,
   "minScale": 0,
   "maxScale": 0,
   "type": "Feature Layer",
   "geometryType": "esriGeometryPolygon",
   "supportsDynamicLegends": true
  }
 ],
 "tables": [],
 "spatialReference": {
  "wkid": 5936,
  "latestWkid": 5936,
  "xyTolerance": 0.001,
  "zTolerance": 0.001,
  "mTolerance": 0.001,
  "falseX": -3.1624562520180307E7,
  "falseY": -3.162456252018016E7,
  "xyUnits": 1.3393779100226435E8,
  "falseZ": -100000,
  "zUnits": 10000,
  "falseM": -100000,
  "mUnits": 10000
 },
 "singleFusedMapCache": true,
 "tileInfo": {
  "rows": 256,
  "cols": 256,
  "dpi": 96,
  "format": "JPEG",
  "compressionQuality": 75,
  "origin": {
   "x": -2.8567784109255E7,
   "y": 3.2567784109255E7
  },
  "spatialReference": {
   "wkid": 5936,
   "latestWkid": 5936,
   "xyTolerance": 0.001,
   "zTolerance": 0.001,
   "mTolerance": 0.001,
   "falseX": -3.162456251271462E7,
   "falseY": -3.1624562513053983E7,
   "xyUnits": 1.3393779101713336E8,
   "falseZ": -100000,
   "zUnits": 10000,
   "falseM": -100000,
   "mUnits": 10000
  },
  "lods": [
   {
    "level": 0,
    "resolution": 238810.813354,
    "scale": 9.0259024528771E8
   },
   {
    "level": 1,
    "resolution": 119405.406677,
    "scale": 4.51295122643855E8
   },
   {
    "level": 2,
    "resolution": 59702.7033384999,
    "scale": 2.25647561321927E8
   },
   {
    "level": 3,
    "resolution": 29851.3516692501,
    "scale": 1.12823780660964E8
   },
   {
    "level": 4,
    "resolution": 14925.675834625,
    "scale": 5.6411890330482E7
   },
   {
    "level": 5,
    "resolution": 7462.83791731252,
    "scale": 2.8205945165241E7
   },
   {
    "level": 6,
    "resolution": 3731.41895865639,
    "scale": 1.4102972582621E7
   },
   {
    "level": 7,
    "resolution": 1865.70947932806,
    "scale": 7051486.29131
   },
   {
    "level": 8,
    "resolution": 932.854739664032,
    "scale": 3525743.145655
   },
   {
    "level": 9,
    "resolution": 466.427369832148,
    "scale": 1762871.572828
   },
   {
    "level": 10,
    "resolution": 233.213684916074,
    "scale": 881435.786414
   },
   {
    "level": 11,
    "resolution": 116.606842458037,
    "scale": 440717.893207
   },
   {
    "level": 12,
    "resolution": 58.3034212288862,
    "scale": 220358.946603
   },
   {
    "level": 13,
    "resolution": 29.1517106145754,
    "scale": 110179.473302
   },
   {
    "level": 14,
    "resolution": 14.5758553072877,
    "scale": 55089.736651
   },
   {
    "level": 15,
    "resolution": 7.28792765351156,
    "scale": 27544.868325
   },
   {
    "level": 16,
    "resolution": 3.64396382688807,
    "scale": 13772.434163
   },
   {
    "level": 17,
    "resolution": 1.82198191331174,
    "scale": 6886.217081
   },
   {
    "level": 18,
    "resolution": 0.910990956788164,
    "scale": 3443.108541
   },
   {
    "level": 19,
    "resolution": 0.45549547826179,
    "scale": 1721.55427
   },
   {
    "level": 20,
    "resolution": 0.227747739130895,
    "scale": 860.777135
   },
   {
    "level": 21,
    "resolution": 0.113873869697739,
    "scale": 430.388568
   },
   {
    "level": 22,
    "resolution": 0.05693693484887,
    "scale": 215.194284
   },
   {
    "level": 23,
    "resolution": 0.028468467424435,
    "scale": 107.597142
   }
  ]
 },
 "storageInfo": {
  "storageFormat": "esriMapCacheStorageModeCompact",
  "packetSize": 128
 },
 "initialExtent": {
  "xmin": -3.4228874591450684E7,
  "ymin": -3.1624562520180166E7,
  "xmax": 3.822887459145089E7,
  "ymax": 3.562456252018057E7,
  "spatialReference": {
   "wkid": 5936,
   "latestWkid": 5936,
   "xyTolerance": 0.001,
   "zTolerance": 0.001,
   "mTolerance": 0.001,
   "falseX": -3.1624562520180307E7,
   "falseY": -3.162456252018016E7,
   "xyUnits": 1.3393779100226435E8,
   "falseZ": -100000,
   "zUnits": 10000,
   "falseM": -100000,
   "mUnits": 10000
  }
 },
 "fullExtent": {
  "xmin": -2.8567784109254878E7,
  "ymin": -2.8567784109254766E7,
  "xmax": 3.2567784109255034E7,
  "ymax": 3.256778410925507E7,
  "spatialReference": {
   "wkid": 5936,
   "latestWkid": 5936,
   "xyTolerance": 0.001,
   "zTolerance": 0.001,
   "mTolerance": 0.001,
   "falseX": -3.1624562520180307E7,
   "falseY": -3.162456252018016E7,
   "xyUnits": 1.3393779100226435E8,
   "falseZ": -100000,
   "zUnits": 10000,
   "falseM": -100000,
   "mUnits": 10000
  }
 },
 "datesInUnknownTimezone": false,
 "minScale": 0,
 "maxScale": 0,
 "units": "esriMeters",
 "supportedImageFormatTypes": "PNG32,PNG24,PNG,JPG,DIB,TIFF,EMF,PS,PDF,GIF,SVG,SVGZ,BMP",
 "documentInfo": {
  "Title": "Arctic Imagery",
  "Author": "",
  "Comments": "The Arctic Imagery map provides 15m TerraColor imagery for the polar region. It is designed to be used as a basemap for overlaying other data for the arctic region. The Arctic Imagery map includes imagery from 90 to 50 degrees north latitude, though the projection will support display of data to lower latitudes.",
  "Subject": "The Arctic Imagery map provides 15m TerraColor imagery for the polar region.",
  "Category": "",
  "Version": "3.0.0",
  "AntialiasingMode": "Fast",
  "TextAntialiasingMode": "Force",
  "Keywords": "2025,Arctic_Imagery,Data Appliance,Data Appliance 2025,general availability,basemap,esri_basemp,Polar,imagery"
 },
 "supportsQueryDomains": true,
 "capabilities": "Map",
 "supportedQueryFormats": "JSON, geoJSON, PBF",
 "exportTilesAllowed": false,
 "referenceScale": 0.0,
 "datumTransformations": [
  {
   "geoTransforms": [
    {
     "wkid": 108001,
     "latestWkid": 1241,
     "transformForward": true,
     "name": "NAD_1927_To_NAD_1983_NADCON"
    }
   ]
  },
  {
   "geoTransforms": [
    {
     "wkid": 108001,
     "latestWkid": 1241,
     "transformForward": false,
     "name": "NAD_1927_To_NAD_1983_NADCON"
    }
   ]
  }
 ],
 "supportsDatumTransformation": true,
 "archivingInfo": {
  "supportsHistoricMoment": false
 },
 "supportsClipping": true,
 "supportsSpatialFilter": true,
 "supportsTimeRelation": true,
 "supportsQueryDataElements": true,
 "mapUnits": {
  "uwkid": 9001
 },
 "maxSelectionCount": 2000,
 "maxRecordCount": 2000,
 "maxImageHeight": 4096,
 "maxImageWidth": 4096,
 "supportedExtensions": "",
 "resampling": false
}
