View In:
ArcGIS JavaScript
ArcGIS Online Map Viewer
ArcGIS Earth
ArcGIS Pro
Service Description: This map is designed to be used as a base map by marine GIS professionals and as a reference map by anyone interested in ocean data. The base map features marine bathymetry. Land features include inland waters and roads overlaid on land cover and shaded relief imagery. The map was compiled from a variety of best available sources from several data providers, including General Bathymetric Chart of the Oceans GEBCO_08 Grid, National Oceanic and Atmospheric Administration (NOAA), and National Geographic, Garmin, Geonames.org, and Esri, and various other contributors. The base map currently provides coverage for the world down to a scale of ~1:577k, and coverage down to 1:72k in US coastal areas, and various other areas. The base map was designed and developed by Esri. NOTE: Data from the GEBCO_08 grid shall not to be used for navigation or for any other purpose relating to safety at sea. The GEBCO_08 Grid is largely based on a database of ship-track soundings with interpolation between soundings guided by satellite-derived gravity data. In some areas, data from existing grids are included. The GEBCO_08 Grid does not contain detailed information in shallower water areas, information concerning the generation of the grid can be found on GEBCO's web site: GEBCO. The GEBCO_08 Grid is accompanied by a Source Identifier (SID) Grid which indicates which cells in the GEBCO_08 Grid are based on soundings or existing grids and which have been interpolated. The latest version of both grids and accompanying documentation is available to download, on behalf of GEBCO, from the British Oceanographic Data Centre (BODC) BODC. The names of the IHO (International Hydrographic Organization), IOC (intergovernmental Oceanographic Commission), GEBCO (General Bathymetric Chart of the Oceans), NERC (Natural Environment Research Council) or BODC (British Oceanographic Data Centre) may not be used in any way to imply, directly or otherwise, endorsement or support of either the Licensee or their mapping system.
Map Name: Layers
Legend
All Layers and Tables
Layers:
Description: This map is designed to be used as a base map by marine GIS professionals and as a reference map by anyone interested in ocean data. The base map features marine bathymetry. Land features include inland waters and roads overlaid on land cover and shaded relief imagery. The map was compiled from a variety of best available sources from several data providers, including General Bathymetric Chart of the Oceans GEBCO_08 Grid, National Oceanic and Atmospheric Administration (NOAA), and National Geographic, Garmin, Geonames.org, and Esri, and various other contributors. The base map currently provides coverage for the world down to a scale of ~1:577k, and coverage down to 1:72k in US coastal areas, and various other areas. The base map was designed and developed by Esri. NOTE: Data from the GEBCO_08 grid shall not to be used for navigation or for any other purpose relating to safety at sea. The GEBCO_08 Grid is largely based on a database of ship-track soundings with interpolation between soundings guided by satellite-derived gravity data. In some areas, data from existing grids are included. The GEBCO_08 Grid does not contain detailed information in shallower water areas, information concerning the generation of the grid can be found on GEBCO's web site: GEBCO. The GEBCO_08 Grid is accompanied by a Source Identifier (SID) Grid which indicates which cells in the GEBCO_08 Grid are based on soundings or existing grids and which have been interpolated. The latest version of both grids and accompanying documentation is available to download, on behalf of GEBCO, from the British Oceanographic Data Centre (BODC) BODC. The names of the IHO (International Hydrographic Organization), IOC (intergovernmental Oceanographic Commission), GEBCO (General Bathymetric Chart of the Oceans), NERC (Natural Environment Research Council) or BODC (British Oceanographic Data Centre) may not be used in any way to imply, directly or otherwise, endorsement or support of either the Licensee or their mapping system.
Copyright Text: Sources: Esri, Garmin, GEBCO, NOAA NGDC, and other contributors
Spatial Reference:
102100
(3857)
LatestVCSWkid(0)
Single Fused Map Cache: true
Tile Info:
- Height: 256
- Width: 256
- DPI: 96
-
Levels of Detail: 17
-
Level ID: 0
[ Start Tile, End Tile ]
- Resolution: 156543.03392800014
- Scale: 5.91657527591555E8
-
Level ID: 1
[ Start Tile, End Tile ]
- Resolution: 78271.51696399994
- Scale: 2.95828763795777E8
-
Level ID: 2
[ Start Tile, End Tile ]
- Resolution: 39135.75848200009
- Scale: 1.47914381897889E8
-
Level ID: 3
[ Start Tile, End Tile ]
- Resolution: 19567.87924099992
- Scale: 7.3957190948944E7
-
Level ID: 4
[ Start Tile, End Tile ]
- Resolution: 9783.93962049996
- Scale: 3.6978595474472E7
-
Level ID: 5
[ Start Tile, End Tile ]
- Resolution: 4891.96981024998
- Scale: 1.8489297737236E7
- Format: JPEG
- Compression Quality: 90.0
- Origin: X: -2.0037508342787E7
Y: 2.0037508342787E7
- Spatial Reference: 102100
(3857)
LatestVCSWkid(0)
Storage Info:
- Storage Format: esriMapCacheStorageModeCompact
- Packet Size: 128
Initial Extent:
XMin: -2.3719113255849287E7
YMin: -2.199198808761979E7
XMax: 2.3719113255849287E7
YMax: 2.2036142269084476E7
Spatial Reference: 102100
(0)
LatestVCSWkid(0)
Full Extent:
XMin: -2.0037508231469758E7
YMin: -1.997186888040859E7
XMax: 2.0037508231469758E7
YMax: 1.9971868880408563E7
Spatial Reference: 102100
(0)
LatestVCSWkid(0)
Units: esriMeters
Supported Image Format Types: PNG32,PNG24,PNG,JPG,DIB,TIFF,EMF,PS,PDF,GIF,SVG,SVGZ,BMP
Document Info:
Title: World Ocean Base
Author:
Comments: This map is designed to be used as a base map by marine GIS professionals and as a reference map by anyone interested in ocean data. The base map features marine bathymetry. Land features include inland waters and roads overlaid on land cover and shaded relief imagery. The map was compiled from a variety of best available sources from several data providers, including General Bathymetric Chart of the Oceans GEBCO_08 Grid, National Oceanic and Atmospheric Administration (NOAA), and National Geographic, Garmin, Geonames.org, and Esri, and various other contributors. The base map currently provides coverage for the world down to a scale of ~1:577k, and coverage down to 1:72k in US coastal areas, and various other areas. The base map was designed and developed by Esri. NOTE: Data from the GEBCO_08 grid shall not to be used for navigation or for any other purpose relating to safety at sea. The GEBCO_08 Grid is largely based on a database of ship-track soundings with interpolation between soundings guided by satellite-derived gravity data. In some areas, data from existing grids are included. The GEBCO_08 Grid does not contain detailed information in shallower water areas, information concerning the generation of the grid can be found on GEBCO's web site: GEBCO. The GEBCO_08 Grid is accompanied by a Source Identifier (SID) Grid which indicates which cells in the GEBCO_08 Grid are based on soundings or existing grids and which have been interpolated. The latest version of both grids and accompanying documentation is available to download, on behalf of GEBCO, from the British Oceanographic Data Centre (BODC) BODC. The names of the IHO (International Hydrographic Organization), IOC (intergovernmental Oceanographic Commission), GEBCO (General Bathymetric Chart of the Oceans), NERC (Natural Environment Research Council) or BODC (British Oceanographic Data Centre) may not be used in any way to imply, directly or otherwise, endorsement or support of either the Licensee or their mapping system.
Subject: This layer is designed to be used as a basemap by anyone interested in ocean data. The basemap features marine bathymetry.
Category:
Keywords: 2025,World_Ocean_Base,Data Appliance,Data Appliance 2025,general availability,basemap,esri_basemap,World,ocean,base
AntialiasingMode: Fast
TextAntialiasingMode: Force
Supports Dynamic Layers: false
Resampling: false
MaxRecordCount: 2000
MaxSelectionCount: 2000
MaxImageHeight: 4096
MaxImageWidth: 4096
Supported Query Formats: JSON, geoJSON, PBF
Supports Query Data Elements: true
Min Scale: 0
Max Scale: 0
Supports Datum Transformation: true
Child Resources:
Info
Supported Operations:
Export Map
QueryLegends
Return Updates