View In:
ArcGIS JavaScript
ArcGIS Online Map Viewer
ArcGIS Earth
ArcGIS Pro
Service Description: The World Hillshade (Dark) map provides a terrain hillshade rendering of 24-meter elevation data globally and 10-meter or better in many parts of the world. Compiled from a variety of sources, including contributions from the GIS User Community, this hillshade map is designed to be used as a backdrop for various other types of maps and mapping data.
Map Name: Layers
Legend
All Layers and Tables
Layers:
Description: The World Hillshade (Dark) map provides a terrain hillshade rendering of 24-meter elevation data globally and 10-meter or better in many parts of the world. Compiled from a variety of sources, including contributions from the GIS User Community, this hillshade map is designed to be used as a backdrop for various other types of maps and mapping data.
Copyright Text: Sources: Esri, Airbus, USGS, NGA, NASA, CGIAR, N Robinson, NCEAS, NLS, OS, NMA, Geodatastyrelsen, Rijkswaterstaat, GSA, Geoland, FEMA, Intermap and the GIS user community
Spatial Reference:
102100
(3857)
LatestVCSWkid(0)
Single Fused Map Cache: true
Tile Info:
- Height: 256
- Width: 256
- DPI: 96
-
Levels of Detail: 24
-
Level ID: 0
[ Start Tile, End Tile ]
- Resolution: 156543.03392800014
- Scale: 5.91657527591555E8
-
Level ID: 1
[ Start Tile, End Tile ]
- Resolution: 78271.51696399994
- Scale: 2.95828763795777E8
-
Level ID: 2
[ Start Tile, End Tile ]
- Resolution: 39135.75848200009
- Scale: 1.47914381897889E8
-
Level ID: 3
[ Start Tile, End Tile ]
- Resolution: 19567.87924099992
- Scale: 7.3957190948944E7
-
Level ID: 4
[ Start Tile, End Tile ]
- Resolution: 9783.93962049996
- Scale: 3.6978595474472E7
-
Level ID: 5
[ Start Tile, End Tile ]
- Resolution: 4891.96981024998
- Scale: 1.8489297737236E7
- Format: JPEG
- Compression Quality: 90.0
- Origin: X: -2.0037508342787E7
Y: 2.0037508342787E7
- Spatial Reference: 102100
(3857)
LatestVCSWkid(0)
Storage Info:
- Storage Format: esriMapCacheStorageModeCompact
- Packet Size: 128
Initial Extent:
XMin: -2.3719113255849287E7
YMin: -2.199198808761979E7
XMax: 2.3719113255849287E7
YMax: 2.2036142269084476E7
Spatial Reference: 102100
(0)
LatestVCSWkid(0)
Full Extent:
XMin: -2.0037508231469758E7
YMin: -1.997186888040859E7
XMax: 2.0037508231469758E7
YMax: 1.9971868880408563E7
Spatial Reference: 102100
(0)
LatestVCSWkid(0)
Units: esriMeters
Supported Image Format Types: PNG32,PNG24,PNG,JPG,DIB,TIFF,EMF,PS,PDF,GIF,SVG,SVGZ,BMP
Document Info:
Title: World Hillshade (Dark)
Author:
Comments: The World Hillshade (Dark) map provides a terrain hillshade rendering of 24-meter elevation data globally and 10-meter or better in many parts of the world. Compiled from a variety of sources, including contributions from the GIS User Community, this hillshade map is designed to be used as a backdrop for various other types of maps and mapping data.
Subject: This map portrays elevation as dark artistic hillshade. It is designed for use as a backdrop for light or bright colored content.
Category:
Keywords: 2025,World_Hillshade_Dark,Data Appliance,Data Appliance 2025,general availability,basemap,esri_basemap,World,AFA250_base
AntialiasingMode: Fast
TextAntialiasingMode: Force
Supports Dynamic Layers: false
Resampling: false
MaxRecordCount: 2000
MaxSelectionCount: 2000
MaxImageHeight: 4096
MaxImageWidth: 4096
Supported Query Formats: JSON, geoJSON, PBF
Supports Query Data Elements: true
Min Scale: 0
Max Scale: 0
Supports Datum Transformation: true
Child Resources:
Info
Supported Operations:
Export Map
QueryLegends
Return Updates