View In:
ArcGIS JavaScript
ArcGIS Online Map Viewer
ArcGIS Earth
ArcGIS Pro
Service Description: This map service is designed to be used as the reference layer for the ocean base map. The reference layer includes marine water body names, undersea feature names, and derived depth values in meters. Land features include administrative boundaries, cities, inland waters, roads, overlaid on land cover and shaded relief imagery. The reference layer was compiled from a variety of best available sources from several data providers, including General Bathymetric Chart of the Oceans GEBCO_08 Grid, IHO-IOC GEBCO Gazetteer of Undersea Feature Names, National Oceanic and Atmospheric Administration (NOAA), and National Geographic, Garmin, Geonames.org, and Esri, and various other contributors. The base map currently provides coverage for the world down to a scale of ~1:577k, and coverage down to 1:72k in US coastal areas, and various other areas. The base map was designed and developed by Esri. NOTE: Data from the GEBCO_08 grid shall not to be used for navigation or for any other purpose relating to safety at sea. The GEBCO_08 Grid is largely based on a database of ship-track soundings with interpolation between soundings guided by satellite-derived gravity data. In some areas, data from existing grids are included. The GEBCO_08 Grid does not contain detailed information in shallower water areas, information concerning the generation of the grid can be found on GEBCO's web site: GEBCO. The GEBCO_08 Grid is accompanied by a Source Identifier (SID) Grid which indicates which cells in the GEBCO_08 Grid are based on soundings or existing grids and which have been interpolated. The latest version of both grids and accompanying documentation is available to download, on behalf of GEBCO, from the British Oceanographic Data Centre (BODC) BODC. The names of the IHO (International Hydrographic Organization), IOC (intergovernmental Oceanographic Commission), GEBCO (General Bathymetric Chart of the Oceans), NERC (Natural Environment Research Council) or BODC (British Oceanographic Data Centre) may not be used in any way to imply, directly or otherwise, endorsement or support of either the Licensee or their mapping system.
Map Name: Layers
Legend
All Layers and Tables
Layers:
Description: This map service is designed to be used as the reference layer for the ocean base map. The reference layer includes marine water body names, undersea feature names, and derived depth values in meters. Land features include administrative boundaries, cities, inland waters, roads, overlaid on land cover and shaded relief imagery. The reference layer was compiled from a variety of best available sources from several data providers, including General Bathymetric Chart of the Oceans GEBCO_08 Grid, IHO-IOC GEBCO Gazetteer of Undersea Feature Names, National Oceanic and Atmospheric Administration (NOAA), and National Geographic, Garmin, Geonames.org, and Esri, and various other contributors. The base map currently provides coverage for the world down to a scale of ~1:577k, and coverage down to 1:72k in US coastal areas, and various other areas. The base map was designed and developed by Esri. NOTE: Data from the GEBCO_08 grid shall not to be used for navigation or for any other purpose relating to safety at sea. The GEBCO_08 Grid is largely based on a database of ship-track soundings with interpolation between soundings guided by satellite-derived gravity data. In some areas, data from existing grids are included. The GEBCO_08 Grid does not contain detailed information in shallower water areas, information concerning the generation of the grid can be found on GEBCO's web site: GEBCO. The GEBCO_08 Grid is accompanied by a Source Identifier (SID) Grid which indicates which cells in the GEBCO_08 Grid are based on soundings or existing grids and which have been interpolated. The latest version of both grids and accompanying documentation is available to download, on behalf of GEBCO, from the British Oceanographic Data Centre (BODC) BODC. The names of the IHO (International Hydrographic Organization), IOC (intergovernmental Oceanographic Commission), GEBCO (General Bathymetric Chart of the Oceans), NERC (Natural Environment Research Council) or BODC (British Oceanographic Data Centre) may not be used in any way to imply, directly or otherwise, endorsement or support of either the Licensee or their mapping system.
Copyright Text: Sources: Esri, GEBCO, NOAA, National Geographic, Garmin, Geonames.org, and other contributors
Spatial Reference:
5936
(5936)
LatestVCSWkid(0)
Single Fused Map Cache: true
Tile Info:
- Height: 256
- Width: 256
- DPI: 96
-
Levels of Detail: 24
-
Level ID: 2
[ Start Tile, End Tile ]
- Resolution: 59702.7033384999
- Scale: 2.25647561321927E8
-
Level ID: 3
[ Start Tile, End Tile ]
- Resolution: 29851.3516692501
- Scale: 1.12823780660964E8
-
Level ID: 5
[ Start Tile, End Tile ]
- Resolution: 7462.83791731252
- Scale: 2.8205945165241E7
-
Level ID: 6
[ Start Tile, End Tile ]
- Resolution: 3731.41895865639
- Scale: 1.4102972582621E7
- Format: PNG32
- Compression Quality: 0.0
- Origin: X: -2.8567784109255E7
Y: 3.2567784109255E7
- Spatial Reference: 5936
(5936)
LatestVCSWkid(0)
Storage Info:
- Storage Format: esriMapCacheStorageModeCompact
- Packet Size: 128
Initial Extent:
XMin: -3.4228874591450684E7
YMin: -3.1624562520180166E7
XMax: 3.822887459145089E7
YMax: 3.562456252018057E7
Spatial Reference: 5936
(5936)
LatestVCSWkid(0)
Full Extent:
XMin: -2.8567784109254878E7
YMin: -2.8567784109254766E7
XMax: 3.2567784109255034E7
YMax: 3.256778410925507E7
Spatial Reference: 5936
(5936)
LatestVCSWkid(0)
Units: esriMeters
Supported Image Format Types: PNG32,PNG24,PNG,JPG,DIB,TIFF,EMF,PS,PDF,GIF,SVG,SVGZ,BMP
Document Info:
Title: Arctic Ocean Reference
Author:
Comments: This map service is designed to be used as the reference layer for the ocean base map. The reference layer includes marine water body names, undersea feature names, and derived depth values in meters. Land features include administrative boundaries, cities, inland waters, roads, overlaid on land cover and shaded relief imagery. The reference layer was compiled from a variety of best available sources from several data providers, including General Bathymetric Chart of the Oceans GEBCO_08 Grid, IHO-IOC GEBCO Gazetteer of Undersea Feature Names, National Oceanic and Atmospheric Administration (NOAA), and National Geographic, Garmin, Geonames.org, and Esri, and various other contributors. The base map currently provides coverage for the world down to a scale of ~1:577k, and coverage down to 1:72k in US coastal areas, and various other areas. The base map was designed and developed by Esri. NOTE: Data from the GEBCO_08 grid shall not to be used for navigation or for any other purpose relating to safety at sea. The GEBCO_08 Grid is largely based on a database of ship-track soundings with interpolation between soundings guided by satellite-derived gravity data. In some areas, data from existing grids are included. The GEBCO_08 Grid does not contain detailed information in shallower water areas, information concerning the generation of the grid can be found on GEBCO's web site: GEBCO. The GEBCO_08 Grid is accompanied by a Source Identifier (SID) Grid which indicates which cells in the GEBCO_08 Grid are based on soundings or existing grids and which have been interpolated. The latest version of both grids and accompanying documentation is available to download, on behalf of GEBCO, from the British Oceanographic Data Centre (BODC) BODC. The names of the IHO (International Hydrographic Organization), IOC (intergovernmental Oceanographic Commission), GEBCO (General Bathymetric Chart of the Oceans), NERC (Natural Environment Research Council) or BODC (British Oceanographic Data Centre) may not be used in any way to imply, directly or otherwise, endorsement or support of either the Licensee or their mapping system.
Subject: This is designed as the reference layer for the Arctic ocean base map. It includes water body and undersea feature names and derived depth values.
Category:
Keywords: 2025,Arctic_Ocean_Reference,Data Appliance,Data Appliance 2025,general availability,basemap,esri_basemap,Polar,ocean,reference
AntialiasingMode: Fast
TextAntialiasingMode: Force
Supports Dynamic Layers: false
Resampling: false
MaxRecordCount: 2000
MaxSelectionCount: 2000
MaxImageHeight: 4096
MaxImageWidth: 4096
Supported Query Formats: JSON, geoJSON, PBF
Supports Query Data Elements: true
Min Scale: 0
Max Scale: 0
Supports Datum Transformation: true
Child Resources:
Info
Supported Operations:
Export Map
QueryLegends
Return Updates