{
 "currentVersion": 11.4,
 "cimVersion": "3.4.0",
 "serviceDescription": "The Antarctic Imagery map provides 15m TerraColor imagery for the polar region of Antarctica. It is designed to be used as a basemap for overlaying other data for the Antarctic region. The Antarctic Imagery map includes imagery from 90 to 50 degrees south latitude, though the projection will support display of data to lower latitudes.",
 "mapName": "Layers",
 "description": "The Antarctic Imagery map provides 15m TerraColor imagery for the polar region of Antarctica. It is designed to be used as a basemap for overlaying other data for the Antarctic region. The Antarctic Imagery map includes imagery from 90 to 50 degrees south latitude, though the projection will support display of data to lower latitudes.",
 "copyrightText": "Source: Earthstar Geographics",
 "supportsDynamicLayers": false,
 "layers": [
  {
   "id": 0,
   "name": "Antarctic Imagery",
   "parentLayerId": -1,
   "defaultVisibility": true,
   "subLayerIds": null,
   "minScale": 0,
   "maxScale": 0,
   "type": "Feature Layer",
   "geometryType": "esriGeometryPolygon",
   "supportsDynamicLegends": true
  }
 ],
 "tables": [],
 "spatialReference": {
  "wkid": 3031,
  "latestWkid": 3031,
  "xyTolerance": 0.001,
  "zTolerance": 0.001,
  "mTolerance": 0.001,
  "falseX": -3.369955154200012E7,
  "falseY": -3.3699551541999646E7,
  "xyUnits": 1.336397495307203E8,
  "falseZ": -100000,
  "zUnits": 10000,
  "falseM": -100000,
  "mUnits": 10000
 },
 "singleFusedMapCache": true,
 "tileInfo": {
  "rows": 256,
  "cols": 256,
  "dpi": 96,
  "format": "JPEG",
  "compressionQuality": 75,
  "origin": {
   "x": -3.369955099203E7,
   "y": 3.369955101703E7
  },
  "spatialReference": {
   "wkid": 3031,
   "latestWkid": 3031,
   "xyTolerance": 0.001,
   "zTolerance": 0.001,
   "mTolerance": 0.001,
   "falseX": -3.369955099203E7,
   "falseY": -3.369955151703E7,
   "xyUnits": 1.3363975062114841E8,
   "falseZ": -100000,
   "zUnits": 10000,
   "falseM": -100000,
   "mUnits": 10000
  },
  "lods": [
   {
    "level": 0,
    "resolution": 238810.81335399998,
    "scale": 9.0259024528771E8
   },
   {
    "level": 1,
    "resolution": 119405.40667699999,
    "scale": 4.51295122643855E8
   },
   {
    "level": 2,
    "resolution": 59702.70333849987,
    "scale": 2.25647561321927E8
   },
   {
    "level": 3,
    "resolution": 29851.351669250063,
    "scale": 1.12823780660964E8
   },
   {
    "level": 4,
    "resolution": 14925.675834625032,
    "scale": 5.6411890330482E7
   },
   {
    "level": 5,
    "resolution": 7462.837917312516,
    "scale": 2.8205945165241E7
   },
   {
    "level": 6,
    "resolution": 3731.4189586563907,
    "scale": 1.4102972582621E7
   },
   {
    "level": 7,
    "resolution": 1865.709479328063,
    "scale": 7051486.29131
   },
   {
    "level": 8,
    "resolution": 932.8547396640315,
    "scale": 3525743.145655
   },
   {
    "level": 9,
    "resolution": 466.42736983214803,
    "scale": 1762871.572828
   },
   {
    "level": 10,
    "resolution": 233.21368491607402,
    "scale": 881435.786414
   },
   {
    "level": 11,
    "resolution": 116.60684245803701,
    "scale": 440717.893207
   },
   {
    "level": 12,
    "resolution": 58.30342122888621,
    "scale": 220358.946603
   },
   {
    "level": 13,
    "resolution": 29.151710614575396,
    "scale": 110179.473302
   },
   {
    "level": 14,
    "resolution": 14.5758553072877,
    "scale": 55089.736651
   },
   {
    "level": 15,
    "resolution": 7.28792765351156,
    "scale": 27544.868325
   },
   {
    "level": 16,
    "resolution": 3.64396382688807,
    "scale": 13772.434163
   },
   {
    "level": 17,
    "resolution": 1.82198191331174,
    "scale": 6886.217081
   },
   {
    "level": 18,
    "resolution": 0.910990956788164,
    "scale": 3443.108541
   },
   {
    "level": 19,
    "resolution": 0.45549547826179,
    "scale": 1721.55427
   },
   {
    "level": 20,
    "resolution": 0.227747739130895,
    "scale": 860.777135
   },
   {
    "level": 21,
    "resolution": 0.113873869697739,
    "scale": 430.388568
   },
   {
    "level": 22,
    "resolution": 0.05693693484887,
    "scale": 215.194284
   },
   {
    "level": 23,
    "resolution": 0.028468467424435,
    "scale": 107.597142
   }
  ]
 },
 "storageInfo": {
  "storageFormat": "esriMapCacheStorageModeCompact",
  "packetSize": 128
 },
 "initialExtent": {
  "xmin": -3.647044707115316E7,
  "ymin": -3.3848769566038005E7,
  "xmax": 3.647044707115316E7,
  "ymax": 3.3848769566038616E7,
  "spatialReference": {
   "wkid": 3031,
   "latestWkid": 3031,
   "xyTolerance": 0.001,
   "zTolerance": 0.001,
   "mTolerance": 0.001,
   "falseX": -3.369955154200012E7,
   "falseY": -3.3699551541999646E7,
   "xyUnits": 1.336397495307203E8,
   "falseZ": -100000,
   "zUnits": 10000,
   "falseM": -100000,
   "mUnits": 10000
  }
 },
 "fullExtent": {
  "xmin": -3.0635955947272874E7,
  "ymin": -3.063595594727252E7,
  "xmax": 3.0635955947272874E7,
  "ymax": 3.0635955947272986E7,
  "spatialReference": {
   "wkid": 3031,
   "latestWkid": 3031,
   "xyTolerance": 0.001,
   "zTolerance": 0.001,
   "mTolerance": 0.001,
   "falseX": -3.369955154200012E7,
   "falseY": -3.3699551541999646E7,
   "xyUnits": 1.336397495307203E8,
   "falseZ": -100000,
   "zUnits": 10000,
   "falseM": -100000,
   "mUnits": 10000
  }
 },
 "datesInUnknownTimezone": false,
 "minScale": 0,
 "maxScale": 0,
 "units": "esriMeters",
 "supportedImageFormatTypes": "PNG32,PNG24,PNG,JPG,DIB,TIFF,EMF,PS,PDF,GIF,SVG,SVGZ,BMP",
 "documentInfo": {
  "Title": "Antarctic Imagery",
  "Author": "",
  "Comments": "The Antarctic Imagery map provides 15m TerraColor imagery for the polar region of Antarctica. It is designed to be used as a basemap for overlaying other data for the Antarctic region. The Antarctic Imagery map includes imagery from 90 to 50 degrees south latitude, though the projection will support display of data to lower latitudes.",
  "Subject": "The Antarctic Imagery map provides 15m TerraColor imagery for the polar region of Antarctica.",
  "Category": "",
  "Version": "3.0.0",
  "AntialiasingMode": "Fast",
  "TextAntialiasingMode": "Force",
  "Keywords": "2025,Antarctic_Imagery,Data Appliance,Data Appliance 2025,general availability,basemap,esri_basemap,Polar,imagery"
 },
 "supportsQueryDomains": true,
 "capabilities": "Map",
 "supportedQueryFormats": "JSON, geoJSON, PBF",
 "exportTilesAllowed": false,
 "referenceScale": 0.0,
 "datumTransformations": [
  {
   "geoTransforms": [
    {
     "wkid": 108001,
     "latestWkid": 1241,
     "transformForward": true,
     "name": "NAD_1927_To_NAD_1983_NADCON"
    }
   ]
  },
  {
   "geoTransforms": [
    {
     "wkid": 108001,
     "latestWkid": 1241,
     "transformForward": false,
     "name": "NAD_1927_To_NAD_1983_NADCON"
    }
   ]
  }
 ],
 "supportsDatumTransformation": true,
 "archivingInfo": {
  "supportsHistoricMoment": false
 },
 "supportsClipping": true,
 "supportsSpatialFilter": true,
 "supportsTimeRelation": true,
 "supportsQueryDataElements": true,
 "mapUnits": {
  "uwkid": 9001
 },
 "maxSelectionCount": 2000,
 "maxRecordCount": 2000,
 "maxImageHeight": 4096,
 "maxImageWidth": 4096,
 "supportedExtensions": "",
 "resampling": false
}
